BEGIN:VCALENDAR
VERSION:2.0
PRODID:-//Road Blitz - ECPv6.15.20//NONSGML v1.0//EN
CALSCALE:GREGORIAN
METHOD:PUBLISH
X-WR-CALNAME:Road Blitz
X-ORIGINAL-URL:https://roadblitzmag.com
X-WR-CALDESC:Events for Road Blitz
REFRESH-INTERVAL;VALUE=DURATION:PT1H
X-Robots-Tag:noindex
X-PUBLISHED-TTL:PT1H
BEGIN:VTIMEZONE
TZID:America/Chicago
BEGIN:DAYLIGHT
TZOFFSETFROM:-0600
TZOFFSETTO:-0500
TZNAME:CDT
DTSTART:20220313T080000
END:DAYLIGHT
BEGIN:STANDARD
TZOFFSETFROM:-0500
TZOFFSETTO:-0600
TZNAME:CST
DTSTART:20221106T070000
END:STANDARD
BEGIN:DAYLIGHT
TZOFFSETFROM:-0600
TZOFFSETTO:-0500
TZNAME:CDT
DTSTART:20230312T080000
END:DAYLIGHT
BEGIN:STANDARD
TZOFFSETFROM:-0500
TZOFFSETTO:-0600
TZNAME:CST
DTSTART:20231105T070000
END:STANDARD
BEGIN:DAYLIGHT
TZOFFSETFROM:-0600
TZOFFSETTO:-0500
TZNAME:CDT
DTSTART:20240310T080000
END:DAYLIGHT
BEGIN:STANDARD
TZOFFSETFROM:-0500
TZOFFSETTO:-0600
TZNAME:CST
DTSTART:20241103T070000
END:STANDARD
END:VTIMEZONE
BEGIN:VEVENT
DTSTART;TZID=America/Chicago:20230812T120000
DTEND;TZID=America/Chicago:20230812T200000
DTSTAMP:20260423T210025
CREATED:20230516T223124Z
LAST-MODIFIED:20230516T223124Z
UID:9972-1691841600-1691870400@roadblitzmag.com
SUMMARY:Jake's Dragstrip - Limpy On the Light
DESCRIPTION:Crowd Control Presents\nLimpy on the light!\nAugust 12th\, 2023\n\nThis is a No Prep\nPour Your own prep event!\n\nGates open at 12!\nTrack hot at 1!\nEarly entry for drivers is at 11 AM\nClasses and Class rules:\nTrue street (Street action)\nCurrent insurance card and registration\n-Working lights\n-Any size DOT tires and/or M/T Pros including R series Pro Bracket radials are OK now due to tire supply. If running a 17” or larger wheel ANY tire is OK!\n-Any fuel type is permitted\n-Vehicle must have cooling system like radiator\, water pump in use and working.\n-.400 Pro Tree start\n-Must meet tracks safety requirements at tech in\nSmall tire (Big hitters)\n\n1/8th mile�-.400 Pro Tree�-Heads Up�-Names drawn first round �-No times shown�-No buy backs�-275 radials/ 28×10.5 permitted .\n-Imports running a 4 cylinder or smaller 28×10.5W tire is permitted�-No full tube chassis (back half ok\, front half ok)�-All 6 cylinder\, 4 cylinder and rotary engines can have dual power adders. V8 engines are limited to ONE power adder.\nStick shift\nOpen to any AWD\, RWD and FWD vehicles.\n– Any tire permitted\n– Factory Wheel Base\n– Only open to H pattern 4 speed\, 5 speed\, 6 speed\, and 7 speed manual vehicles. No Sequential’s\, no exceptions!\n– 1/8 mile heads up\n– .400 Pro Tree start\nAll motor\n-No PAs\n-AWD allowed in class on Hardtire\n-RWD any tire permitted\n-FWD any tire permitted\nKids games:\n330 Race\nCrab Walk\n\nBig Thanks to our sponsors for this race!\nHooligan Motorsports: Providing the prep on site for our racers at the event!\nBryant Brothers Automotive
URL:https://roadblitzmag.com/event/jakes-dragstrip-limpy-on-the-light/
LOCATION:Jake’s Dragstrip\, 3041 County Road 94\, Danville\, AL\, 35619\, United States
CATEGORIES:Drag,Racing
ATTACH;FMTTYPE=image/jpeg:https://roadblitzmag.com/wp-content/uploads/2023/05/347112659_1904165716631506_2626479396387414639_n-jpg.webp
ORGANIZER;CN="Crowd Control":MAILTO:crowdcontroll205@gmail.com
END:VEVENT
BEGIN:VEVENT
DTSTART;TZID=America/Chicago:20230527T140000
DTEND;TZID=America/Chicago:20230527T200000
DTSTAMP:20260423T210025
CREATED:20230516T222921Z
LAST-MODIFIED:20230516T222921Z
UID:9968-1685196000-1685217600@roadblitzmag.com
SUMMARY:Sand Mountain Dragway - King Of The Hill
DESCRIPTION:May 27 2023\nCrowd Control Presents\n“King of the Hill”\nGates open at 2\nTrack hot at 3\n846 Co RD 419\, Section Al 35771\nKids games\n“330 FT race”\n“Crab walk”\nClasses\nTrue street (Street action)\nCurrent insurance card and registration\n-Working lights\n-Any size DOT tires and/or M/T Pros including R series Pro Bracket radials are OK now due to tire supply. If running a 15″ or larger wheel ANY tire is OK!\n-Any fuel type is permitted\n-Vehicle must have cooling system like radiator\, water pump in use and working.\n-.400 Pro Tree start\n-Must meet tracks safety requirements at tech in\n500 on top @15 cars\nSmall tire (Big hitters)\n\n1/8th mile�-.400 Pro Tree�-Heads Up�-Names drawn first round �-No times shown�-No buy backs�-275 radials/ 28×10.5 permitted .\n-Imports running a 4 cylinder or smaller 28×10.5W tire is permitted�-No full tube chassis (back half ok\, front half ok)�-All 6 cylinder\, 4 cylinder and rotary engines can have dual power adders. V8 engines are limited to ONE power adder.\n500 on top @15 cars\n\nStick shift\nOpen to any AWD\, RWD and FWD vehicles.\n– Any tire permitted\n– Factory Wheel Base\n– Only open to H pattern 4 speed\, 5 speed\, 6 speed\, and 7 speed manual vehicles. No Sequential’s\, no exceptions!\n– 1/8 mile heads up\n– .400 Pro Tree start\n250 on top @10 cars\n\nHard Tire\nALL DOT TIRES MUST BE A MINIMUM TREAD-WEAR RATING OF 220\n-Tires must have the tread wear rating on the size wall and be a DOT approved tire. no minimum or max tire size.\n-FWD and RWD vehicles only\n-No slick or drag radial compound tire is allowed in the hard tire class (NT05R\, NT555R\, MT ET SS\, MT ET Street R\, R888 and so fourth not allowed)\n– NO tube chassis race car putting hard tires on.\n-Interior must have two seats and a dash\, however rear seats\, carpet\, panels\, etc. Are not required.\n250 on top @10 cars
URL:https://roadblitzmag.com/event/sand-mountain-dragway-king-of-the-hill/
LOCATION:Sand Mountain Dragway\, 846 County Road 419\, Section\, AL\, 35771\, United States
CATEGORIES:Drag,Racing
ATTACH;FMTTYPE=image/jpeg:https://roadblitzmag.com/wp-content/uploads/2023/05/345448188_1673404079773323_8887198701471734159_n-jpg.webp
ORGANIZER;CN="Crowd Control":MAILTO:crowdcontroll205@gmail.com
END:VEVENT
BEGIN:VEVENT
DTSTART;TZID=America/Chicago:20230505T120000
DTEND;TZID=America/Chicago:20230506T220000
DTSTAMP:20260423T210025
CREATED:20230427T023412Z
LAST-MODIFIED:20230427T023412Z
UID:8540-1683288000-1683410400@roadblitzmag.com
SUMMARY:Radial Wars Spring 8K PAYDAY
DESCRIPTION:Radial Wars Cash Days- Spring 8K PAYDAY\n$20 Gate Fee\nKids 10 and under FREE\nGates open @ 12pm\nTrack Hot @ 1pm for testing\nDriver Meeting @ 3pm\nALL CLASSES: You will get 2 Qualifying Passes before the event starts. Get there on time or you will not get you passes. NHRA chassis and safety rules apply!!!\nBYE-RUNS: Each racer can only receive one “Bye–Run” during the pairings draw (This does not include if you draw a racer that is broke or cannot make the call to lanes) All vehicles must still take the tree during any single run\nCLASSES:\nDaily Driver Mild:\nTag and Insurance\nAny power adder\nMust have A/C\nMust have full interior\nMust have full exhaust\nMust have OD trans\nGlass windows\n28×10.5 or smaller tire (DOT)\nNo trans brakes allowed\n(Daily Driver Vehicles Only)\nPro Tree\nChip draw for pairing 1st round\n$100 buy in and 80% 1st place\, 20% 2nd place\n$1500 Guaranteed Pot w/10 car minimum\nDaily Driver WILD:\nFloating index \, may be divided into 2 classes depending on times\nAny power adder\nMust have A/C (if come with factory)\nTag and Insurance\nMust have full interior (seat delete okay)\nMust have exhaust to axle ( cutouts allowed\, turbo cars can have fender or bumper exits)\nGlass windows\nStock fuel tank in stock location(sumps OK)\n28×10.5 or smaller tire\nTrans brakes allowed\nPro Tree\n$100 buy in\nChip draw for pairing 1st round\n$100 buy in and 80% 1st place\, 20% 2nd place\n$1500 Guaranteed Pot w/10 car minimum\n(All New Class)\nX235 Extreme Radial:(Ducks Rules for chassis apply)\nSteel roof and quarters\nGlass windows or NHRA legal Lexan approved\nStock style front suspension\nNo tube chassis\nAny 235/60 or 26 x 8.5 bias or radial tire\nNA and Nitrous Combo permitted any 235 or 26 x 8.5\, 255/60 “R” tire\, or 275/60 “SS” tire\nAny power adder(restrictions may apply)\n$100 buy in and 80% 1st place\, 20% 2nd place\n$1500 Guaranteed Pot w/10 car minimum\nRadical Street:\nSteel roof and quarters\nStock style front suspension\nNo tube chassis\, back half ok\n28×10.5 or 275/60 only no W series tires\nAny power adder\nIndex between 5.50-5.70 (Index will be drawn by chip draw)\nChip draw for pairing each round\n$100 buy in\,$1500 Guaranteed Pot w/10 car minimum\nOutlaw Small Tire:\n$150 buy in \,$2000 Guaranteed Pot\n28×10.5 or 275/60 no W series tires\nNo tube chassis\nChip draw for pairing each round\nASAG:\n$100 buy in\nAll Steel\nAll Glass\nFiberglass hood or bumpers ok
URL:https://roadblitzmag.com/event/radial-wars-spring-8k-payday/
LOCATION:Jake’s Dragstrip\, 3041 County Road 94\, Danville\, AL\, 35619\, United States
CATEGORIES:Drag,Racing,Sanctioned
ATTACH;FMTTYPE=image/jpeg:https://roadblitzmag.com/wp-content/uploads/2023/04/340257224_942706166765659_4226423312826618783_n-jpg.webp
ORGANIZER;CN="Jake's Dragstrip":MAILTO:Jakesdragstripal@gmail.com
END:VEVENT
END:VCALENDAR